BEGIN:VCALENDAR
VERSION:2.0
PRODID:-//#WOSTSPITZE - ECPv5.3.1.1//NONSGML v1.0//EN
CALSCALE:GREGORIAN
METHOD:PUBLISH
X-WR-CALNAME:#WOSTSPITZE
X-ORIGINAL-URL:https://wostspitze.de
X-WR-CALDESC:Veranstaltungen für #WOSTSPITZE
BEGIN:VTIMEZONE
TZID:Europe/Berlin
BEGIN:DAYLIGHT
TZOFFSETFROM:+0100
TZOFFSETTO:+0200
TZNAME:CEST
DTSTART:20180325T010000
END:DAYLIGHT
BEGIN:STANDARD
TZOFFSETFROM:+0200
TZOFFSETTO:+0100
TZNAME:CET
DTSTART:20181028T010000
END:STANDARD
END:VTIMEZONE
BEGIN:VEVENT
DTSTART;TZID=Europe/Berlin:20181209T160000
DTEND;TZID=Europe/Berlin:20181209T200000
DTSTAMP:20260421T113327
CREATED:20181202T193627Z
LAST-MODIFIED:20181203T093145Z
UID:1316-1544371200-1544385600@wostspitze.de
SUMMARY:1001 Umnachtungen: Workshop mit Leyla Jagiella
DESCRIPTION:1001 Umnachtungen – Was kann Kunst in einer post-orientalistischen post-migrantischen Welt? \nWorkshop mit Leyla Jagiella \nIn Kunst bildet sich\, gewiss mindestens seit der Antike\, immer das Selbstbild einer Gesellschaft ab\, aber auch die Begegnung mit dem „Fremden“. Nicht selten macht es sich Kunst auch bewusst zur Aufgabe Fremdheit zu überwinden\, aber auch ebenso oft hat Kunst dazu beigetragen\, Fremdheit zu konstruieren. In der Ausrichtung des „Orientalismus“\, die unsere Diskurse über das Verhältnis zwischen Europa und seinen südlichen und östlichen Nachbarn bis heute nachhaltig prägt\, ist diese Konstruktion von Fremdheit in besonderer Deutlichkeit zum Ausdruck gekommen. Immer aber auch mit Ambivalenz besetzt\, denn der dort dargestellte Orient diente gleichzeitig immer auch als Projektionsfläche für eigene unterdrückte Wünsche und Sehnsüchte. Wir wollen in unserem Workshop einen kurzen Streifzug durch die Geschichte dieser Ambivalenz unternehmen und schauen\, was diese mit dem ganzen politischen Unsinn zu tun hat\, der in unseren Tagen wieder besonders wirkmächtig wird. Gleichzeitig wollen wir uns fragen\, ob wir hier auch positive Potentiale entdecken können\, mit denen Kunst heute zu einer zunehmend divers werdenden Gesellschaft sprechen kann. \nWir bitten um Anmeldung per Mail: eva.busch@atelierautomatique.de
URL:https://wostspitze.de/veranstaltung/1001-umnachtungen-workshop-mit-leyla-jagiella/
LOCATION:atelier automatique\, Rottstraße 14\, Bochum\, NRW\, 44793\, Deutschland
CATEGORIES:Art
ATTACH;FMTTYPE=image/jpeg:https://wostspitze.de/wp-content/uploads/sites/3/2018/12/46764412_2166771920033801_3436068699742666752_o.jpg
ORGANIZER;CN="atelier%20automatique":MAILTO:info@atelierautomatique.de
END:VEVENT
END:VCALENDAR