BEGIN:VCALENDAR
VERSION:2.0
PRODID:-//#WOSTSPITZE - ECPv5.3.1.1//NONSGML v1.0//EN
CALSCALE:GREGORIAN
METHOD:PUBLISH
X-WR-CALNAME:#WOSTSPITZE
X-ORIGINAL-URL:https://wostspitze.de
X-WR-CALDESC:Veranstaltungen für #WOSTSPITZE
BEGIN:VTIMEZONE
TZID:Europe/Berlin
BEGIN:DAYLIGHT
TZOFFSETFROM:+0100
TZOFFSETTO:+0200
TZNAME:CEST
DTSTART:20190331T010000
END:DAYLIGHT
BEGIN:STANDARD
TZOFFSETFROM:+0200
TZOFFSETTO:+0100
TZNAME:CET
DTSTART:20191027T010000
END:STANDARD
END:VTIMEZONE
BEGIN:VEVENT
DTSTART;TZID=Europe/Berlin:20190117T183000
DTEND;TZID=Europe/Berlin:20190117T210000
DTSTAMP:20260420T103245
CREATED:20181202T174102Z
LAST-MODIFIED:20181203T092412Z
UID:1295-1547749800-1547758800@wostspitze.de
SUMMARY:ArtNight: Galaxy Katze
DESCRIPTION:Sei am 17.01.2019 von 18:30 – 21:00 Uhr bei unserer “Galaxy Katze”-ArtNight in Bochum dabei. \nBei einer ArtNight erschaffst du dein eigenes Kunstwerk\, unsere Künstler zeigen dir wie’s geht. Nimm deine Freunde mit\, komm alleine oder habe viel Spaß bei einem ArtNight-Date – du wirst kreativ\, lernst neue Leute kennen und gehst am Ende nicht nur mit deinem eigenen Kunstwerk\, sondern auch mit guter Laune und tollen Erinnerungen nach Hause! \nDu brauchst keinerlei Kenntnisse und wir bringen alle Materialien mit\, damit du deine ArtNight einfach genießen kannst. Getränke und Essen sind in der Location zu den herkömmlichen Preisen erhältlich. \nHole dir also jetzt dein Ticket\, denn die Plätze sind begrenzt und das Ticket nur online buchbar: http://bit.ly/2TIOV7A
URL:https://wostspitze.de/veranstaltung/artnight-galaxy-katze/
LOCATION:Neuland\, #wostspitze Rottstraße 15\, Bochum\, NRW\, 44793\, Deutschland
CATEGORIES:Art
ATTACH;FMTTYPE=image/jpeg:https://wostspitze.de/wp-content/uploads/sites/3/2018/12/46752687_2264517117111893_639196424768061440_n.jpg
ORGANIZER;CN="artnight":MAILTO:mail@artnight.com
END:VEVENT
END:VCALENDAR