BEGIN:VCALENDAR
VERSION:2.0
PRODID:-//#WOSTSPITZE - ECPv5.3.1.1//NONSGML v1.0//EN
CALSCALE:GREGORIAN
METHOD:PUBLISH
X-WR-CALNAME:#WOSTSPITZE
X-ORIGINAL-URL:https://wostspitze.de
X-WR-CALDESC:Veranstaltungen für #WOSTSPITZE
BEGIN:VTIMEZONE
TZID:Europe/Berlin
BEGIN:DAYLIGHT
TZOFFSETFROM:+0100
TZOFFSETTO:+0200
TZNAME:CEST
DTSTART:20190331T010000
END:DAYLIGHT
BEGIN:STANDARD
TZOFFSETFROM:+0200
TZOFFSETTO:+0100
TZNAME:CET
DTSTART:20191027T010000
END:STANDARD
END:VTIMEZONE
BEGIN:VEVENT
DTSTART;TZID=Europe/Berlin:20190616T170000
DTEND;TZID=Europe/Berlin:20190616T180000
DTSTAMP:20260419T203639
CREATED:20190529T123908Z
LAST-MODIFIED:20190529T123908Z
UID:1948-1560704400-1560708000@wostspitze.de
SUMMARY:Kubaturen
DESCRIPTION:Foto: bobiennale \nWie die Liebe sich aufstellt\, zwischen Wolke und Busch \nRezitation\, Lesung\, Dialog/Bauen \nText: bobiennale
URL:https://wostspitze.de/veranstaltung/kubaturen/
LOCATION:Rottstr5 H.O.F\, Rottstr. 5\, Bochum\, 44793
CATEGORIES:#wostspitze,Art,Literatur
ATTACH;FMTTYPE=image/jpeg:https://wostspitze.de/wp-content/uploads/sites/3/2019/05/bobiennale.jpg
END:VEVENT
END:VCALENDAR