BEGIN:VCALENDAR
VERSION:2.0
PRODID:-//#WOSTSPITZE - ECPv5.3.1.1//NONSGML v1.0//EN
CALSCALE:GREGORIAN
METHOD:PUBLISH
X-WR-CALNAME:#WOSTSPITZE
X-ORIGINAL-URL:https://wostspitze.de
X-WR-CALDESC:Veranstaltungen für #WOSTSPITZE
BEGIN:VTIMEZONE
TZID:Europe/Berlin
BEGIN:DAYLIGHT
TZOFFSETFROM:+0100
TZOFFSETTO:+0200
TZNAME:CEST
DTSTART:20180325T010000
END:DAYLIGHT
BEGIN:STANDARD
TZOFFSETFROM:+0200
TZOFFSETTO:+0100
TZNAME:CET
DTSTART:20181028T010000
END:STANDARD
END:VTIMEZONE
BEGIN:VEVENT
DTSTART;TZID=Europe/Berlin:20181221T190000
DTEND;TZID=Europe/Berlin:20181221T220000
DTSTAMP:20260420T171729
CREATED:20181213T112232Z
LAST-MODIFIED:20181218T131403Z
UID:1433-1545418800-1545429600@wostspitze.de
SUMMARY:Kurzfilmtag mit IFFF und blicke
DESCRIPTION:Das Internationale Frauenfilmfestival und blicke – filmfestival des ruhrgebiets haben sich zusammengetan und ein Programm kuratiert\, das vielfältiger nicht sein könnte: experimentell\, fiktional\, dokumentarisch oder animiert – was darf’s sein? \nDas Publikum wird durch die vorgestellten Kurzfilme über die kirgisische Steppe nach London\, New York … bis nach Lünen\, Westfalen geführt. \nGesamtdauer des Programms: 1\,5 Std zzgl. Pause.\nDer Eintritt ist frei. \n1. Programmblock \n\n„Der Block” von Nadine Boller / 2015 /  9´44´´/ Doku\n„Pictures” von Gertrud Schweers / 2007 / 4´00´´/ Doku\n„Living Asleep Dying Standing“ von Ahmed Essam / 2016 / 8´19´´/ fiktional\n„Rauschen & Brausen“ von Daniel Burkhardt / 2007 / 4´50´´/ experimentell\n„Quell von Essen“ von Daniela Risch / 2010 / 12´00´´ / Doku\n„Dragonfly“ von Gemma Burditt / 2009 / 2´29´´/ Animation/Musikvideo\n\n\nPAUSE \n2. Programmblock \n\n„Heimaturlaub“ von Carsten Knoop und Doris Kiesewetter / 2015 / 2´27´´/ Doku\n„Christ/el“ von Andreas Grützner / 2016 / 8´35´´/ Doku\n„Traveling Olga / Traveling Gilles“ von La Ribot / 2003 / 3´40´´/ experimentell\n„Pasajeros\, Peregrinos\, Pilotos“ von Thomas Köner / 2007 / 3´00´´/ experimentell\n„Gott ist schon weg“ von Peter Böving / 2018 / 10´00´´/ Animation\n\n 
URL:https://wostspitze.de/veranstaltung/kurzfilmtag-mit-ifff-und-blicke/
LOCATION:Neuland\, #wostspitze Rottstraße 15\, Bochum\, NRW\, 44793\, Deutschland
CATEGORIES:Art,Film
ATTACH;FMTTYPE=image/png:https://wostspitze.de/wp-content/uploads/sites/3/2018/12/Screenshot-2018-12-13-at-12.21.26.png
ORGANIZER;CN="%23Wostspitze":MAILTO:wostspitze@neuland-bochum.de
END:VEVENT
END:VCALENDAR