BEGIN:VCALENDAR
VERSION:2.0
PRODID:-//#WOSTSPITZE - ECPv5.3.1.1//NONSGML v1.0//EN
CALSCALE:GREGORIAN
METHOD:PUBLISH
X-WR-CALNAME:#WOSTSPITZE
X-ORIGINAL-URL:https://wostspitze.de
X-WR-CALDESC:Veranstaltungen für #WOSTSPITZE
BEGIN:VTIMEZONE
TZID:Europe/Berlin
BEGIN:DAYLIGHT
TZOFFSETFROM:+0100
TZOFFSETTO:+0200
TZNAME:CEST
DTSTART:20180325T010000
END:DAYLIGHT
BEGIN:STANDARD
TZOFFSETFROM:+0200
TZOFFSETTO:+0100
TZNAME:CET
DTSTART:20181028T010000
END:STANDARD
END:VTIMEZONE
BEGIN:VEVENT
DTSTART;TZID=Europe/Berlin:20181206T200000
DTEND;TZID=Europe/Berlin:20181206T220000
DTSTAMP:20260421T124511
CREATED:20181202T172700Z
LAST-MODIFIED:20181202T172709Z
UID:1288-1544126400-1544133600@wostspitze.de
SUMMARY:Lesung mit Klaus Märkert
DESCRIPTION:Am 6.12. um 20 Uhr findet bei uns eine böse-besinnliche Lesung mit einem Special-Mix aus Klaus Märkerts NACHTHUMOR-Storys und diversen Szene-Erinnerungen aus dem Club-Leben in den 80s und 90s (Zwischenfall\, Logo\, Lurie\, usw.) in und um Bochum statt. \nBibliographie:\nHab Sonne\, Leipzig 2009\, Edition PaperONE\, Ruhrgebiets-Szene-Roman\, autobiografisch\, (2. erweiterte Auflage\, Hagen im März 2014\, Eisenhut Verlag)\nIch bin dann mal tot\, Köln 2010\, Muschelverlag\, ShortStorys (gemeinsames Projekt mit dem Essener Autor Myk Jung)\, Storys aus der frühen “Schementhemen”-Phase –\nDer Tag braucht das Licht\, ich nicht\, Leipzig 2011\, Edition PaperOne\, 16 Short-Storys\, Nachthumor\nRequiem für Pac-Man\, Leipzig 2011\, Edition PaperONE\, Roman\, autobiografisch –\n(2. erweiterte Auflage: Hagen im Februar 2013\, Eisenhut Verlag)\nSchlagt sie tot in den Wäldern\, Hagen 04/2013\, Eisenhut Verlag\, 20 Short-Storys\, Nachthumor\nSchatten voraus\, Hamm 07/2016\, eygennutz Verlag\, Kurz-Roman\, Horror-Komik\, Nachthumor\nWie wir leuchten im Dunkeln geben wir so verdammt gute Ziele ab\, Hamm 07/2017\, eygennutz Verlag\nDer Tag braucht das Licht ich nicht 3.0 Best Of Nachthumor I (Kompilation)\, 20 Storys\,\nLeipzig 09/2018\, Telescope-Edition Outbird \nDaneben einige Veröffentlichungen in Anthologien und Zeitschriften\, wie etwa im ShortStory-Buch aus dem Jahre 2009 der legendären Leseshow “Fett und Kursiv” des Kölner Wohnzimmertheaters.
URL:https://wostspitze.de/veranstaltung/lesung-mit-klaus-maerkert/
LOCATION:Neuland\, #wostspitze Rottstraße 15\, Bochum\, NRW\, 44793\, Deutschland
CATEGORIES:Literatur
ATTACH;FMTTYPE=image/jpeg:https://wostspitze.de/wp-content/uploads/sites/3/2018/12/46516606_1140443402778095_3794919921767415808_n.jpg
ORGANIZER;CN="%23Wostspitze":MAILTO:wostspitze@neuland-bochum.de
END:VEVENT
END:VCALENDAR