BEGIN:VCALENDAR
VERSION:2.0
PRODID:-//#WOSTSPITZE - ECPv5.3.1.1//NONSGML v1.0//EN
CALSCALE:GREGORIAN
METHOD:PUBLISH
X-WR-CALNAME:#WOSTSPITZE
X-ORIGINAL-URL:https://wostspitze.de
X-WR-CALDESC:Veranstaltungen für #WOSTSPITZE
BEGIN:VTIMEZONE
TZID:Europe/Berlin
BEGIN:DAYLIGHT
TZOFFSETFROM:+0100
TZOFFSETTO:+0200
TZNAME:CEST
DTSTART:20190331T010000
END:DAYLIGHT
BEGIN:STANDARD
TZOFFSETFROM:+0200
TZOFFSETTO:+0100
TZNAME:CET
DTSTART:20191027T010000
END:STANDARD
END:VTIMEZONE
BEGIN:VEVENT
DTSTART;TZID=Europe/Berlin:20190615T200000
DTEND;TZID=Europe/Berlin:20190615T210000
DTSTAMP:20260419T173556
CREATED:20190529T102355Z
LAST-MODIFIED:20190529T102355Z
UID:1930-1560628800-1560632400@wostspitze.de
SUMMARY:Lesung mit Nina Nübel und Verena Liebers
DESCRIPTION:Foto: bobiennale \nAbenteuer 100 km-Lauf: Weil es an der Ruhr so schön ist \nVerena Liebers arbeitet als promovierte Biologin an der Ruhr-Universität Bochum sowie als Schriftstellerin. \nIn ihrer Freizeit läuft sie viel\, vor allem an der Ruhr. Beim Ultramarathon „Tortour de Ruhr“ lief sie mit 50 Jahren erstmals 100 Kilometer. \nDieser Lauf von Hagen nach Duisburg und das zugehörige Training waren voller lustiger und herausfordernder Erlebnisse\, die sie in einem Buch notiert hat. \nDass Lebensfreude und Laufen ganz eng zusammengehören\, wird in dieser Lesung verständlich. \nDie Blutrache der Hexe \nIn den Fantasy-Büchern der Bochumer Autorin Nina Nübel geht es gerne mal unheimlich zu. \nMit ihren Geschichten\, die meist einen lokalen Bezug haben\, zieht sie vor allem jugendliche Leserinnen und Leser in ihren Bann. \nIn dieser Lesung stellt Nina Nübel ihr Buch „Die Blutrache der Hexe“ vor. Dieses baut auf dem vorherigen Teil auf\, „Die Sklaven der Hexe“. Darin durchkreuzen die drei Jugendlichen Jores\, Patrick und Merle den dunklen Plan der Hexe Esmeralda. Doch diese schwört fürchterliche Rache. \nKönnen die drei und ihre Freunde den Fängen der bösen Esmeralda entkommen oder gibt es kein Entrinnen? In „Blutrache der Hexe“ fordert Nina Nübel wieder die Nerven ihrer Leser bis auf das Äußerste. \nDie Veranstaltung ist öffentlich\, es ist keine Anmeldung nötig und der Eintritt ist frei. \nText: bobiennale
URL:https://wostspitze.de/veranstaltung/lesung-mit-nina-nuebel-und-verena-liebers/
LOCATION:Blue Square\, Kortumstr. 90\, Bochum\, 44787
CATEGORIES:#wostspitze,Literatur
ATTACH;FMTTYPE=image/jpeg:https://wostspitze.de/wp-content/uploads/sites/3/2019/05/img_project_7.jpeg
END:VEVENT
END:VCALENDAR