BEGIN:VCALENDAR
VERSION:2.0
PRODID:-//#WOSTSPITZE - ECPv5.3.1.1//NONSGML v1.0//EN
CALSCALE:GREGORIAN
METHOD:PUBLISH
X-WR-CALNAME:#WOSTSPITZE
X-ORIGINAL-URL:https://wostspitze.de
X-WR-CALDESC:Veranstaltungen für #WOSTSPITZE
BEGIN:VTIMEZONE
TZID:Europe/Berlin
BEGIN:DAYLIGHT
TZOFFSETFROM:+0100
TZOFFSETTO:+0200
TZNAME:CEST
DTSTART:20180325T010000
END:DAYLIGHT
BEGIN:STANDARD
TZOFFSETFROM:+0200
TZOFFSETTO:+0100
TZNAME:CET
DTSTART:20181028T010000
END:STANDARD
END:VTIMEZONE
BEGIN:VEVENT
DTSTART;TZID=Europe/Berlin:20181223T150000
DTEND;TZID=Europe/Berlin:20181223T210000
DTSTAMP:20260420T133723
CREATED:20181213T111655Z
LAST-MODIFIED:20181213T111655Z
UID:1431-1545577200-1545598800@wostspitze.de
SUMMARY:Musikcafé Holiday Jam
DESCRIPTION:Das Musikcafé im Raum9 geht am 23.12 in die festliche Nummer 7\, zu Kaffee Kuchen und einer riesigen Session\, um dem Jahr im Raum 9 einen musikalischen Ausklang zu gestalten – wieder mit und für euch!\nWir wollen ein Freiraum für Austausch sein\, musikalischer\, sowie kultureller Natur\, an dem Jede(r) willkommen ist und euch darüber hinaus euren Sonntag mit feinsten Backwaren versüßen 🙂 \nEs werden einige der Künstler bei uns sein\, die schon einmal bei uns aufgetreten sind und auch viele neue Gesichter.. jeder der mag darf unsere kleine Bühne nutzen und uns etwas darbieten\, allein oder mit uns!\nFür buntes musikalisches Programm ist also in jedem Fall gesorgt 🙂 \nKommt mit uns zusammen und habt Teil am Austausch: \n– bringt Musik auf egal welchem Medium mit\, lasst uns ihr lauschen und uns darüber austauschen!\n– bringt Instrumente und eigene Stücke mit\, tragt sie uns vor und holt euch Feedback von musikalisch engagierten und interessierten Menschen!\n– jammt mit uns\, wenn euch danach ist\, die Devise lautet: Alles kann\, nichts muss! ..außer Kaffee und Kuchen!\n– bringt Kuchen mit und unterstützt den Raum9 als Freiraum gestellt vom Botopia Netzwerk! (Mitgebrachter Kuchen kann vor Ort gegen 50% Spende an Botopia und 50% Aufwandsentschädigung zu einem Preis im eigenen ermessen “verkauft” werden. Wir sind vollkommen unkommerziell und wollen niemanden durch aufgezwungene Kosten ausschließen.) \nWir haben keinen Bock auf Hass und eingeschränkte Horizonte! \nHabt gute Laune und Appetit dabei\, dann gestalten wir der Woche einen gemütlichen\, musikalischen Abschluss!\nWir freuen uns auf euch!
URL:https://wostspitze.de/veranstaltung/musikcafe-holiday-jam/
LOCATION:raum9 botopia\, Griesenbruchstr. 9\, Bochum\, NRW\, 44793\, Deutschland
CATEGORIES:Music
ATTACH;FMTTYPE=image/jpeg:https://wostspitze.de/wp-content/uploads/sites/3/2018/12/40398023_1090751977769117_2248495042509406208_o.jpg
END:VEVENT
END:VCALENDAR