BEGIN:VCALENDAR
VERSION:2.0
PRODID:-//#WOSTSPITZE - ECPv5.3.1.1//NONSGML v1.0//EN
CALSCALE:GREGORIAN
METHOD:PUBLISH
X-WR-CALNAME:#WOSTSPITZE
X-ORIGINAL-URL:https://wostspitze.de
X-WR-CALDESC:Veranstaltungen für #WOSTSPITZE
BEGIN:VTIMEZONE
TZID:Europe/Berlin
BEGIN:DAYLIGHT
TZOFFSETFROM:+0100
TZOFFSETTO:+0200
TZNAME:CEST
DTSTART:20190331T010000
END:DAYLIGHT
BEGIN:STANDARD
TZOFFSETFROM:+0200
TZOFFSETTO:+0100
TZNAME:CET
DTSTART:20191027T010000
END:STANDARD
END:VTIMEZONE
BEGIN:VEVENT
DTSTART;TZID=Europe/Berlin:20190224T160000
DTEND;TZID=Europe/Berlin:20190224T200000
DTSTAMP:20260419T153628
CREATED:20190213T094346Z
LAST-MODIFIED:20190213T094346Z
UID:1471-1551024000-1551038400@wostspitze.de
SUMMARY:Musikcafé im Raum9
DESCRIPTION:Das Musikcafé im Raum9 geht weiter am 24.02\, zu Kaffee Kuchen und Konzerten – wieder mit und für euch!\nWir wollen ein Freiraum für Austausch sein\, musikalischer\, sowie kultureller Natur\, an dem Jede(r) willkommen ist und euch darüber hinaus euren Sonntag mit feinsten Backwaren versüßen 🙂 \nDie Beiden Konzertslots für 17 und 18 Uhr sind noch frei\, ihr seid gerne auf unserer kleinen Bühne gesehen\, meldet euch! \nKommt mit uns zusammen und habt Teil am Austausch: \n– bringt Musik auf egal welchem Medium mit\, lasst uns ihr lauschen und uns darüber austauschen!\n– bringt Instrumente und eigene Stücke mit\, tragt sie uns vor und holt euch Feedback von musikalisch engagierten und interessierten Menschen!\n– jammt mit uns\, wenn euch danach ist\, die Devise lautet: Alles kann\, nichts muss! ..außer Kaffee und Kuchen!\n– bringt Kuchen mit und unterstützt den Raum9 als Freiraum gestellt vom Botopia Netzwerk! (Mitgebrachter Kuchen kann vor Ort gegen 50% Spende an Botopia und 50% Aufwandsentschädigung zu einem Preis im eigenen ermessen “verkauft” werden. Wir sind vollkommen unkommerziell und wollen niemanden durch aufgezwungene Kosten ausschließen.) \nWir haben keinen Bock auf Hass und eingeschränkte Horizonte! \nHabt gute Laune und Appetit dabei\, dann gestalten wir der Woche einen gemütlichen\, musikalischen Abschluss!\nWir freuen uns auf euch!
URL:https://wostspitze.de/veranstaltung/musikcafe-im-raum9-2/
LOCATION:raum9 botopia\, Griesenbruchstr. 9\, Bochum\, NRW\, 44793\, Deutschland
CATEGORIES:#wostspitze,Music
ATTACH;FMTTYPE=image/jpeg:https://wostspitze.de/wp-content/uploads/sites/3/2018/12/40398023_1090751977769117_2248495042509406208_o.jpg
END:VEVENT
END:VCALENDAR