BEGIN:VCALENDAR
VERSION:2.0
PRODID:-//#WOSTSPITZE - ECPv5.3.1.1//NONSGML v1.0//EN
CALSCALE:GREGORIAN
METHOD:PUBLISH
X-WR-CALNAME:#WOSTSPITZE
X-ORIGINAL-URL:https://wostspitze.de
X-WR-CALDESC:Veranstaltungen für #WOSTSPITZE
BEGIN:VTIMEZONE
TZID:Europe/Berlin
BEGIN:DAYLIGHT
TZOFFSETFROM:+0100
TZOFFSETTO:+0200
TZNAME:CEST
DTSTART:20190331T010000
END:DAYLIGHT
BEGIN:STANDARD
TZOFFSETFROM:+0200
TZOFFSETTO:+0100
TZNAME:CET
DTSTART:20191027T010000
END:STANDARD
END:VTIMEZONE
BEGIN:VEVENT
DTSTART;TZID=Europe/Berlin:20190223T200000
DTEND;TZID=Europe/Berlin:20190223T230000
DTSTAMP:20260419T172820
CREATED:20190220T091440Z
LAST-MODIFIED:20190220T091440Z
UID:1535-1550952000-1550962800@wostspitze.de
SUMMARY:Neuland wird 5
DESCRIPTION:Feiert mit uns 5 Jahre NEULAND. Es gib einen Special Drink und Ulla Plöpp legt für uns auf.Einfach vorbei kommen. \nWir freuen uns auf über Jeden\, der uns über all diese ganze Zeit begleitet und uns unterstützt haben. \nEuer NEULAND-Team
URL:https://wostspitze.de/veranstaltung/neuland-wird-5/
LOCATION:Neuland\, #wostspitze Rottstraße 15\, Bochum\, NRW\, 44793\, Deutschland
CATEGORIES:#wostspitze,Music
ATTACH;FMTTYPE=image/jpeg:https://wostspitze.de/wp-content/uploads/sites/3/2019/02/52884300_1203798603109241_3064440186235518976_o.jpg
ORGANIZER;CN="Neuland":MAILTO:info@neuland-bochum.de
END:VEVENT
END:VCALENDAR