BEGIN:VCALENDAR
VERSION:2.0
PRODID:-//#WOSTSPITZE - ECPv5.3.1.1//NONSGML v1.0//EN
CALSCALE:GREGORIAN
METHOD:PUBLISH
X-WR-CALNAME:#WOSTSPITZE
X-ORIGINAL-URL:https://wostspitze.de
X-WR-CALDESC:Veranstaltungen für #WOSTSPITZE
BEGIN:VTIMEZONE
TZID:Europe/Berlin
BEGIN:DAYLIGHT
TZOFFSETFROM:+0100
TZOFFSETTO:+0200
TZNAME:CEST
DTSTART:20180325T010000
END:DAYLIGHT
BEGIN:STANDARD
TZOFFSETFROM:+0200
TZOFFSETTO:+0100
TZNAME:CET
DTSTART:20181028T010000
END:STANDARD
END:VTIMEZONE
BEGIN:VEVENT
DTSTART;TZID=Europe/Berlin:20181116T183000
DTEND;TZID=Europe/Berlin:20181116T203000
DTSTAMP:20260421T171808
CREATED:20181115T081638Z
LAST-MODIFIED:20181115T122000Z
UID:981-1542393000-1542400200@wostspitze.de
SUMMARY:QUARTIERSTREFF NR. 3
DESCRIPTION:Entwicklungstreff #wostspitze\nBeim Entwicklungstreff ist jeder herzlich willkommen. Egal\, ob ihr Anwohner oder Geschäftsleute des Viertels seid\, hier arbeitet\, Bürger aus unmittelbarer Umgebung oder einfach Interesse am Projekt #wostspitze habt.\nJe mehr Leute sich einbringen\, desto besser. \nLasst uns zusammen Ideen und Anregungen sammeln\, wie wir das Viertel weiter verbessern können. Aber auch herausfinden\, was momentan weniger gut in der #wostspitze läuft und unsere Probleme klar definieren. Eventuell kristallisieren sich dann schon erste Visionen aus dem Kollektiv heraus. Außerdem werden wir Euch vorstellen\, was eine aktivierende Befragung ist und warum wir eine in der #wostspitze durchführen wollen. \nFalls Ihr keine Zeit habt\, Euch aber trotzdem Dinge beschäftigen\, schreibt uns einfach eine E-Mail. Wir sprechen dann auch darüber und schreiben Euch später zurück.
URL:https://wostspitze.de/veranstaltung/quartierstreff-nr-3/
LOCATION:Neuland\, #wostspitze Rottstraße 15\, Bochum\, NRW\, 44793\, Deutschland
CATEGORIES:#wostspitze
ATTACH;FMTTYPE=image/jpeg:https://wostspitze.de/wp-content/uploads/sites/3/2018/11/entwicklungstreff.jpg
ORGANIZER;CN="%23Wostspitze":MAILTO:wostspitze@neuland-bochum.de
END:VEVENT
END:VCALENDAR