BEGIN:VCALENDAR
VERSION:2.0
PRODID:-//#WOSTSPITZE - ECPv5.3.1.1//NONSGML v1.0//EN
CALSCALE:GREGORIAN
METHOD:PUBLISH
X-WR-CALNAME:#WOSTSPITZE
X-ORIGINAL-URL:https://wostspitze.de
X-WR-CALDESC:Veranstaltungen für #WOSTSPITZE
BEGIN:VTIMEZONE
TZID:Europe/Berlin
BEGIN:DAYLIGHT
TZOFFSETFROM:+0100
TZOFFSETTO:+0200
TZNAME:CEST
DTSTART:20190331T010000
END:DAYLIGHT
BEGIN:STANDARD
TZOFFSETFROM:+0200
TZOFFSETTO:+0100
TZNAME:CET
DTSTART:20191027T010000
END:STANDARD
END:VTIMEZONE
BEGIN:VEVENT
DTSTART;TZID=Europe/Berlin:20190622T203000
DTEND;TZID=Europe/Berlin:20190622T220000
DTSTAMP:20260421T102203
CREATED:20190529T123812Z
LAST-MODIFIED:20190529T123812Z
UID:2016-1561235400-1561240800@wostspitze.de
SUMMARY:Reise ins Dunkle
DESCRIPTION:Foto:  Sinan Karabulut \nEs ist eine Collage aus durchkomponiertem Death- und Ambient-Metal-Sound mit Texten aus dem Roman “Picknick am Wegesrand” sowie eigenen Texten zum Thema des Dunklen im Leben\, es wird gelesen theatral agiert und breakdance gezeigt! \nText: bobiennale
URL:https://wostspitze.de/veranstaltung/reise-ins-dunkle/
LOCATION:Witteler Passage\, Bongardstraße 2\, Bochum\, 44787
CATEGORIES:#wostspitze,Music
ATTACH;FMTTYPE=image/png:https://wostspitze.de/wp-content/uploads/sites/3/2019/05/Sinan-Karabulut-Reise-ins-Dunkel.png
END:VEVENT
END:VCALENDAR