BEGIN:VCALENDAR
VERSION:2.0
PRODID:-//#WOSTSPITZE - ECPv5.3.1.1//NONSGML v1.0//EN
CALSCALE:GREGORIAN
METHOD:PUBLISH
X-WR-CALNAME:#WOSTSPITZE
X-ORIGINAL-URL:https://wostspitze.de
X-WR-CALDESC:Veranstaltungen für #WOSTSPITZE
BEGIN:VTIMEZONE
TZID:Europe/Berlin
BEGIN:DAYLIGHT
TZOFFSETFROM:+0100
TZOFFSETTO:+0200
TZNAME:CEST
DTSTART:20180325T010000
END:DAYLIGHT
BEGIN:STANDARD
TZOFFSETFROM:+0200
TZOFFSETTO:+0100
TZNAME:CET
DTSTART:20181028T010000
END:STANDARD
END:VTIMEZONE
BEGIN:VEVENT
DTSTART;TZID=Europe/Berlin:20181120T190000
DTEND;TZID=Europe/Berlin:20181120T220000
DTSTAMP:20260421T154228
CREATED:20181115T122943Z
LAST-MODIFIED:20181130T105944Z
UID:998-1542740400-1542751200@wostspitze.de
SUMMARY:TON OHNE STROM Nr.5 Linda Bockholt
DESCRIPTION:Linda Bockholt\nheute in der #wostspitze eine Lokalmatadorin zu Gast! \nLinda Bockholt\, bekannt aus der Bochumer Mädelskombo „Tengo Hambre Pero No Tengo Dinero“\, spielte am Schauspielhaus in der Cash-Fortsetzung „Well you´re my friend“ und begeistert am Prinzregenttheater in „Bilder deiner grossen Liebe“ und „Die Schöne und das Biest“ sowohl schauspielerisch als auch musikalisch. In ihrem Soloprogramm covert sie im Singer-Songwriter-Style bunt durch die Musikgeschickte und gibt hin und wieder auch eigene Stücke zum Besten. Dabei begleitet sie sich mal mit Gitarre\, mal mit Ukulele\, aber vor allem ihr Gesang ist es\, der immer wieder auf´s neue ihre Zuhörer verzaubert.
URL:https://wostspitze.de/veranstaltung/ton-ohne-strom-nr-5-linda-bockholt/
LOCATION:Neuland\, #wostspitze Rottstraße 15\, Bochum\, NRW\, 44793\, Deutschland
CATEGORIES:#wostspitze
ATTACH;FMTTYPE=image/jpeg:https://wostspitze.de/wp-content/uploads/sites/3/2018/11/ToSLinda.jpg
ORGANIZER;CN="%23Wostspitze":MAILTO:wostspitze@neuland-bochum.de
END:VEVENT
END:VCALENDAR