BEGIN:VCALENDAR
VERSION:2.0
PRODID:-//#WOSTSPITZE - ECPv5.3.1.1//NONSGML v1.0//EN
CALSCALE:GREGORIAN
METHOD:PUBLISH
X-WR-CALNAME:#WOSTSPITZE
X-ORIGINAL-URL:https://wostspitze.de
X-WR-CALDESC:Veranstaltungen für #WOSTSPITZE
BEGIN:VTIMEZONE
TZID:Europe/Berlin
BEGIN:DAYLIGHT
TZOFFSETFROM:+0100
TZOFFSETTO:+0200
TZNAME:CEST
DTSTART:20180325T010000
END:DAYLIGHT
BEGIN:STANDARD
TZOFFSETFROM:+0200
TZOFFSETTO:+0100
TZNAME:CET
DTSTART:20181028T010000
END:STANDARD
END:VTIMEZONE
BEGIN:VEVENT
DTSTART;TZID=Europe/Berlin:20181211T190000
DTEND;TZID=Europe/Berlin:20181211T220000
DTSTAMP:20260421T082810
CREATED:20181130T114627Z
LAST-MODIFIED:20181202T184913Z
UID:1195-1544554800-1544565600@wostspitze.de
SUMMARY:TON OHNE STROM Nr.6 Und mir der Mond & Loveshocks!
DESCRIPTION:Die Musik wie auch die Konzerte von …und mir der Mond sind ein wüster\, ekstatischer Mix aus Cabaret\, Chaos und Wahnsinn. Eigentlich vom Punk und Theater kommend\, kleiden sie ihre deutschsprachigen Texte in ein musikalisches Gewand aus New Wave und Post Punk. Das Quintett aus Bochum-Langendreer wird gerne dem Genre „Gothic“ zugeordnet\, jedoch widersprechen …und mir der Mond jedem gängigen Klischee einer Gothic Band. Die Musik\, mal roh\, mal zart\, oft lärmend – verstörend wie faszinierend. Und mir der Mond selbst beschreibt sie als die musikgewordenen Schrecken und Abgründe\, die gewaltsam hinter allen Dingen des Lebens brodeln. Wie herbeigerufene „Gespenster“\, die sich wie ein roter Faden durch die Songs ziehen. Der Name …und mir der Mond\, dem Roman „Melodien“ von Helmut Krausser entliehen\, erlangte die Band schon nach ersten Konzerten in Bochumer Szenenläden sowie dem Rottstr5Theater auch über die Grenzen der Stadt hinaus Bekanntheit.\n\n\nDie vier Bochumer Jungs fühlen sich im Hard Rock der 80ger pudelwohl. Gepaart mit Punk aus den 70gern spielen sie einen wilden Mix\, der Laune macht. Inspiriert von prägenden Legenden wie Pussycat\, Kiss\, The Cult oder Guns n´Roses haben sie ihr akustisches Können schon bei Bochum Total vollends bewiesen.
URL:https://wostspitze.de/veranstaltung/ton-ohne-strom-nr-6-weihnachtsspecial-und-mir-der-mond-loveshocks/
LOCATION:Neuland\, #wostspitze Rottstraße 15\, Bochum\, NRW\, 44793\, Deutschland
CATEGORIES:#wostspitze,Ton ohne Strom
ATTACH;FMTTYPE=image/png:https://wostspitze.de/wp-content/uploads/sites/3/2018/11/Screenshot-2018-11-30-at-12.44.51.png
ORGANIZER;CN="%23Wostspitze":MAILTO:wostspitze@neuland-bochum.de
END:VEVENT
END:VCALENDAR