BEGIN:VCALENDAR
VERSION:2.0
PRODID:-//#WOSTSPITZE - ECPv5.3.1.1//NONSGML v1.0//EN
CALSCALE:GREGORIAN
METHOD:PUBLISH
X-WR-CALNAME:#WOSTSPITZE
X-ORIGINAL-URL:https://wostspitze.de
X-WR-CALDESC:Veranstaltungen für #WOSTSPITZE
BEGIN:VTIMEZONE
TZID:Europe/Berlin
BEGIN:DAYLIGHT
TZOFFSETFROM:+0100
TZOFFSETTO:+0200
TZNAME:CEST
DTSTART:20190331T010000
END:DAYLIGHT
BEGIN:STANDARD
TZOFFSETFROM:+0200
TZOFFSETTO:+0100
TZNAME:CET
DTSTART:20191027T010000
END:STANDARD
END:VTIMEZONE
BEGIN:VEVENT
DTSTART;TZID=Europe/Berlin:20190124T190000
DTEND;TZID=Europe/Berlin:20190126T235500
DTSTAMP:20260420T083003
CREATED:20181130T123620Z
LAST-MODIFIED:20181202T175109Z
UID:1209-1548356400-1548546900@wostspitze.de
SUMMARY:Too Drunk To Watch goes Pott - Filmfest
DESCRIPTION:Thursday\, January 24\, 2019\n\n\n7:00 PM     A Global Mess – Reisebericht\n\n\n9:00 PM     n.n.\n\n\n\n\n\n\n\n\n\n\n\nFriday\, January 25\, 2019\n\n\n7:00 PM     Volker Kampgarten Akustikset\n\n\n\n8:00 PM     Punk im Alter\n\n\n\n9:00 PM     n.n.\n\n\n\n\n\n\n\n\n\n\n\nSaturday\, January 26\, 2019\n\n\n\n\n7:00 PM     Festival der Demokratie\n\n\n\n\n\n9:00 PM     n.n
URL:https://wostspitze.de/veranstaltung/too-drunk-to-watch-goes-pott-filmfest/
LOCATION:Neuland\, #wostspitze Rottstraße 15\, Bochum\, NRW\, 44793\, Deutschland
CATEGORIES:#wostspitze,Art,Film
ATTACH;FMTTYPE=image/jpeg:https://wostspitze.de/wp-content/uploads/sites/3/2016/08/plakat.jpg
ORGANIZER;CN="%23Wostspitze":MAILTO:wostspitze@neuland-bochum.de
END:VEVENT
END:VCALENDAR