BEGIN:VCALENDAR
VERSION:2.0
PRODID:-//#WOSTSPITZE - ECPv5.3.1.1//NONSGML v1.0//EN
CALSCALE:GREGORIAN
METHOD:PUBLISH
X-WR-CALNAME:#WOSTSPITZE
X-ORIGINAL-URL:https://wostspitze.de
X-WR-CALDESC:Veranstaltungen für #WOSTSPITZE
BEGIN:VTIMEZONE
TZID:Europe/Berlin
BEGIN:DAYLIGHT
TZOFFSETFROM:+0100
TZOFFSETTO:+0200
TZNAME:CEST
DTSTART:20190331T010000
END:DAYLIGHT
BEGIN:STANDARD
TZOFFSETFROM:+0200
TZOFFSETTO:+0100
TZNAME:CET
DTSTART:20191027T010000
END:STANDARD
END:VTIMEZONE
BEGIN:VEVENT
DTSTART;TZID=Europe/Berlin:20190212T180000
DTEND;TZID=Europe/Berlin:20190212T220000
DTSTAMP:20260420T024602
CREATED:20190211T094417Z
LAST-MODIFIED:20190211T094417Z
UID:1456-1549994400-1550008800@wostspitze.de
SUMMARY:ToS9 RANDOM STAGE
DESCRIPTION:Interaktiver Musikabend\, Open Stage\, Jamstage \nHeute Abend stellen wir nur den Raum und ein paar Leute mit denen man zusammen jammen kann.\nAkustikgitarre\, Boxen\, Mischpult\, Mikroständer und Kabel sind vor Ort.\nWer Lust hat kommt irgendwann vorbei und macht Musik mit uns – jede*r kann teilnehmen.\nInstrumente müsstet ihr allerdings selbst mitbringen. \n  \n 
URL:https://wostspitze.de/veranstaltung/tos9-random-stage/
CATEGORIES:#wostspitze,Open Stage,Ton ohne Strom
ATTACH;FMTTYPE=image/jpeg:https://wostspitze.de/wp-content/uploads/sites/3/2016/08/ToS-Cedric.jpg
ORGANIZER;CN="%23Wostspitze":MAILTO:wostspitze@neuland-bochum.de
END:VEVENT
END:VCALENDAR