BEGIN:VCALENDAR
VERSION:2.0
PRODID:-//#WOSTSPITZE - ECPv5.3.1.1//NONSGML v1.0//EN
CALSCALE:GREGORIAN
METHOD:PUBLISH
X-WR-CALNAME:#WOSTSPITZE
X-ORIGINAL-URL:https://wostspitze.de
X-WR-CALDESC:Veranstaltungen für #WOSTSPITZE
BEGIN:VTIMEZONE
TZID:Europe/Berlin
BEGIN:DAYLIGHT
TZOFFSETFROM:+0100
TZOFFSETTO:+0200
TZNAME:CEST
DTSTART:20190331T010000
END:DAYLIGHT
BEGIN:STANDARD
TZOFFSETFROM:+0200
TZOFFSETTO:+0100
TZNAME:CET
DTSTART:20191027T010000
END:STANDARD
END:VTIMEZONE
BEGIN:VEVENT
DTSTART;TZID=Europe/Berlin:20190617T200000
DTEND;TZID=Europe/Berlin:20190617T213000
DTSTAMP:20260421T102248
CREATED:20190529T111515Z
LAST-MODIFIED:20190529T111515Z
UID:1964-1560801600-1560807000@wostspitze.de
SUMMARY:Vision Sounds - Deep Flow - Deep Breath
DESCRIPTION:Foto: Malwina \nKonzert\, Heil-\, Trance-\, Tiefenentspannung-\, Schamanische Reisen und Meditations-\, Klang- und Atemabende: \nMarc Iwaszkiewicz ist ein Meister des meditativen\, magischen und mystischen Spiels mit Klängen. \nMit Instrumenten wie Gongs\, Klangschalen\, Didgeridoo\, Gongtrommel\, Tanpura\, Shruti Box\, Koto und Obertongesang erschafft er fantastische Klangwelten. \nEr öffnet durch seine Musik ein Klang- und Energiefeld\, welches Körper\, Seele und Geist in einen tiefen Zustand des Gleichgewichts bringt. \nIn diesem zentrierten\, wohlgestimmten Raum werden sämtliche Kraftfelder der Besucher angesprochen\, gereinigt und mit neuen Energien gefüllt. Kleine\, einfache Atem- und Gedankenübungen vervielfältigen die positiven\, klärenden\, heilenden und lösenden Wirkungen der Schwingungen. \nEs wird empfohlen\, das „Baden in Klängen” im Liegen zu erleben. \nKarten: Bitte über Traumkraft – Bitte frühzeitig anmelden \n\nBitte mitbringen: Decken\, Kissen\, Isomatte etc.\, falls gewünscht \n\nText: bobiennale
URL:https://wostspitze.de/veranstaltung/vision-sounds-deep-flow-deep-breath/
LOCATION:Q1 – Eins im Quartier\, Halbachstraße 1\, Bochum\, 44793
CATEGORIES:#wostspitze,Music
ATTACH;FMTTYPE=image/png:https://wostspitze.de/wp-content/uploads/sites/3/2019/05/Malwina-Sound.png
END:VEVENT
END:VCALENDAR